BEGIN:VCALENDAR
VERSION:2.0
PRODID:-//Risen Church Grovetown - ECPv6.15.20//NONSGML v1.0//EN
CALSCALE:GREGORIAN
METHOD:PUBLISH
X-ORIGINAL-URL:https://risenchurchgrovetown.org
X-WR-CALDESC:Events for Risen Church Grovetown
REFRESH-INTERVAL;VALUE=DURATION:PT1H
X-Robots-Tag:noindex
X-PUBLISHED-TTL:PT1H
BEGIN:VTIMEZONE
TZID:UTC
BEGIN:STANDARD
TZOFFSETFROM:+0000
TZOFFSETTO:+0000
TZNAME:UTC
DTSTART:20230101T000000
END:STANDARD
END:VTIMEZONE
BEGIN:VEVENT
DTSTART;TZID=UTC:20250301T100000
DTEND;TZID=UTC:20250301T130000
DTSTAMP:20260425T160013
CREATED:20250225T005632Z
LAST-MODIFIED:20250225T005632Z
UID:1757-1740823200-1740834000@risenchurchgrovetown.org
SUMMARY:Safety Team Meeting
DESCRIPTION:
URL:https://risenchurchgrovetown.org/event/safety-team-meeting/
END:VEVENT
BEGIN:VEVENT
DTSTART;TZID=UTC:20250224T140000
DTEND;TZID=UTC:20250224T180000
DTSTAMP:20260425T160013
CREATED:20250126T213244Z
LAST-MODIFIED:20250126T213244Z
UID:1668-1740405600-1740420000@risenchurchgrovetown.org
SUMMARY:Food Pantry
DESCRIPTION:
URL:https://risenchurchgrovetown.org/event/food-pantry-26/
END:VEVENT
BEGIN:VEVENT
DTSTART;TZID=UTC:20250222T080000
DTEND;TZID=UTC:20250222T090000
DTSTAMP:20260425T160013
CREATED:20250126T213100Z
LAST-MODIFIED:20250126T213100Z
UID:1664-1740211200-1740214800@risenchurchgrovetown.org
SUMMARY:Church Cleaning
DESCRIPTION:
URL:https://risenchurchgrovetown.org/event/church-cleaning-13/
END:VEVENT
BEGIN:VEVENT
DTSTART;VALUE=DATE:20250222
DTEND;VALUE=DATE:20250223
DTSTAMP:20260425T160013
CREATED:20250126T213207Z
LAST-MODIFIED:20250126T213207Z
UID:1666-1740182400-1740268799@risenchurchgrovetown.org
SUMMARY:Ironmen
DESCRIPTION:
URL:https://risenchurchgrovetown.org/event/ironmen/
END:VEVENT
BEGIN:VEVENT
DTSTART;TZID=UTC:20250219T170000
DTEND;TZID=UTC:20250219T183000
DTSTAMP:20260425T160013
CREATED:20250126T213019Z
LAST-MODIFIED:20250126T213019Z
UID:1662-1739984400-1739989800@risenchurchgrovetown.org
SUMMARY:Food Pantry
DESCRIPTION:
URL:https://risenchurchgrovetown.org/event/food-pantry-25/
END:VEVENT
BEGIN:VEVENT
DTSTART;TZID=UTC:20250217T190000
DTEND;TZID=UTC:20250217T200000
DTSTAMP:20260425T160013
CREATED:20250126T212920Z
LAST-MODIFIED:20250126T212920Z
UID:1660-1739818800-1739822400@risenchurchgrovetown.org
SUMMARY:MWAM/WWAP
DESCRIPTION:
URL:https://risenchurchgrovetown.org/event/mwam-wwap-15/
END:VEVENT
BEGIN:VEVENT
DTSTART;TZID=UTC:20250217T140000
DTEND;TZID=UTC:20250217T180000
DTSTAMP:20260425T160013
CREATED:20250126T212836Z
LAST-MODIFIED:20250126T212836Z
UID:1658-1739800800-1739815200@risenchurchgrovetown.org
SUMMARY:Food Pantry
DESCRIPTION:
URL:https://risenchurchgrovetown.org/event/food-pantry-24/
END:VEVENT
BEGIN:VEVENT
DTSTART;TZID=UTC:20250215T173000
DTEND;TZID=UTC:20250215T200000
DTSTAMP:20260425T160013
CREATED:20250126T212805Z
LAST-MODIFIED:20250126T212805Z
UID:1656-1739640600-1739649600@risenchurchgrovetown.org
SUMMARY:Game Night
DESCRIPTION:
URL:https://risenchurchgrovetown.org/event/game-night-2/
END:VEVENT
BEGIN:VEVENT
DTSTART;TZID=UTC:20250212T180000
DTEND;TZID=UTC:20250212T190000
DTSTAMP:20260425T160013
CREATED:20250126T212734Z
LAST-MODIFIED:20250126T212734Z
UID:1654-1739383200-1739386800@risenchurchgrovetown.org
SUMMARY:Bring Your Dinner to Church
DESCRIPTION:
URL:https://risenchurchgrovetown.org/event/bring-your-dinner-to-church-9/
END:VEVENT
BEGIN:VEVENT
DTSTART;TZID=UTC:20250210T140000
DTEND;TZID=UTC:20250210T180000
DTSTAMP:20260425T160013
CREATED:20250126T212638Z
LAST-MODIFIED:20250126T212638Z
UID:1652-1739196000-1739210400@risenchurchgrovetown.org
SUMMARY:Food Pantry
DESCRIPTION:
URL:https://risenchurchgrovetown.org/event/food-pantry-23/
END:VEVENT
BEGIN:VEVENT
DTSTART;TZID=UTC:20250209T120000
DTEND;TZID=UTC:20250209T130000
DTSTAMP:20260425T160013
CREATED:20250126T212514Z
LAST-MODIFIED:20250126T212514Z
UID:1650-1739102400-1739106000@risenchurchgrovetown.org
SUMMARY:Costa Rica Mission Trip Meeting
DESCRIPTION:
URL:https://risenchurchgrovetown.org/event/costa-rica-mission-trip-meeting/
END:VEVENT
BEGIN:VEVENT
DTSTART;TZID=UTC:20250208T080000
DTEND;TZID=UTC:20250208T150000
DTSTAMP:20260425T160013
CREATED:20250126T212412Z
LAST-MODIFIED:20250126T212412Z
UID:1648-1739001600-1739026800@risenchurchgrovetown.org
SUMMARY:Ladies Retreat
DESCRIPTION:
URL:https://risenchurchgrovetown.org/event/ladies-retreat-2/
END:VEVENT
BEGIN:VEVENT
DTSTART;TZID=UTC:20250207T180000
DTEND;TZID=UTC:20250207T210000
DTSTAMP:20260425T160013
CREATED:20250126T212340Z
LAST-MODIFIED:20250126T212340Z
UID:1646-1738951200-1738962000@risenchurchgrovetown.org
SUMMARY:Ladies Retreat
DESCRIPTION:
URL:https://risenchurchgrovetown.org/event/ladies-retreat/
END:VEVENT
BEGIN:VEVENT
DTSTART;TZID=UTC:20250203T190000
DTEND;TZID=UTC:20250203T200000
DTSTAMP:20260425T160013
CREATED:20250126T212238Z
LAST-MODIFIED:20250126T212238Z
UID:1644-1738609200-1738612800@risenchurchgrovetown.org
SUMMARY:MWAM/WWAP
DESCRIPTION:
URL:https://risenchurchgrovetown.org/event/mwam-wwap-14/
END:VEVENT
BEGIN:VEVENT
DTSTART;TZID=UTC:20250203T140000
DTEND;TZID=UTC:20250203T180000
DTSTAMP:20260425T160013
CREATED:20250126T212206Z
LAST-MODIFIED:20250126T212206Z
UID:1642-1738591200-1738605600@risenchurchgrovetown.org
SUMMARY:Food Pantry
DESCRIPTION:
URL:https://risenchurchgrovetown.org/event/food-pantry-22/
END:VEVENT
BEGIN:VEVENT
DTSTART;TZID=UTC:20250125T090000
DTEND;TZID=UTC:20250125T110000
DTSTAMP:20260425T160013
CREATED:20241214T192803Z
LAST-MODIFIED:20241214T192803Z
UID:1598-1737795600-1737802800@risenchurchgrovetown.org
SUMMARY:Food Pantry
DESCRIPTION:
URL:https://risenchurchgrovetown.org/event/food-pantry-21/
END:VEVENT
BEGIN:VEVENT
DTSTART;TZID=UTC:20250125T080000
DTEND;TZID=UTC:20250125T090000
DTSTAMP:20260425T160013
CREATED:20241214T192723Z
LAST-MODIFIED:20241214T192723Z
UID:1596-1737792000-1737795600@risenchurchgrovetown.org
SUMMARY:Church Cleaning
DESCRIPTION:
URL:https://risenchurchgrovetown.org/event/church-cleaning-12/
END:VEVENT
BEGIN:VEVENT
DTSTART;TZID=UTC:20250120T190000
DTEND;TZID=UTC:20250120T200000
DTSTAMP:20260425T160013
CREATED:20241214T192555Z
LAST-MODIFIED:20241214T192555Z
UID:1594-1737399600-1737403200@risenchurchgrovetown.org
SUMMARY:MWAM/WWAP
DESCRIPTION:
URL:https://risenchurchgrovetown.org/event/mwam-wwap-13/
END:VEVENT
BEGIN:VEVENT
DTSTART;TZID=UTC:20250115T170000
DTEND;TZID=UTC:20250115T183000
DTSTAMP:20260425T160013
CREATED:20241214T192515Z
LAST-MODIFIED:20241214T192515Z
UID:1592-1736960400-1736965800@risenchurchgrovetown.org
SUMMARY:Food Pantry
DESCRIPTION:
URL:https://risenchurchgrovetown.org/event/food-pantry-20/
END:VEVENT
BEGIN:VEVENT
DTSTART;TZID=UTC:20250108T180000
DTEND;TZID=UTC:20250108T190000
DTSTAMP:20260425T160013
CREATED:20241214T192412Z
LAST-MODIFIED:20241214T192412Z
UID:1590-1736359200-1736362800@risenchurchgrovetown.org
SUMMARY:Bring Your Dinner to Church
DESCRIPTION:
URL:https://risenchurchgrovetown.org/event/bring-your-dinner-to-church-8/
END:VEVENT
BEGIN:VEVENT
DTSTART;TZID=UTC:20250106T190000
DTEND;TZID=UTC:20250106T200000
DTSTAMP:20260425T160013
CREATED:20241214T192322Z
LAST-MODIFIED:20241214T192322Z
UID:1588-1736190000-1736193600@risenchurchgrovetown.org
SUMMARY:MWAM/WWAP
DESCRIPTION:
URL:https://risenchurchgrovetown.org/event/mwam-wwap-12/
END:VEVENT
BEGIN:VEVENT
DTSTART;TZID=UTC:20250101T180000
DTEND;TZID=UTC:20250101T200000
DTSTAMP:20260425T160013
CREATED:20241214T192224Z
LAST-MODIFIED:20241214T192224Z
UID:1586-1735754400-1735761600@risenchurchgrovetown.org
SUMMARY:New Year's Potluck Social
DESCRIPTION:
URL:https://risenchurchgrovetown.org/event/new-years-potluck-social/
END:VEVENT
BEGIN:VEVENT
DTSTART;TZID=UTC:20241228T090000
DTEND;TZID=UTC:20241228T110000
DTSTAMP:20260425T160013
CREATED:20241202T171026Z
LAST-MODIFIED:20241202T171026Z
UID:1582-1735376400-1735383600@risenchurchgrovetown.org
SUMMARY:Food Pantry
DESCRIPTION:
URL:https://risenchurchgrovetown.org/event/food-pantry-19/
END:VEVENT
BEGIN:VEVENT
DTSTART;TZID=UTC:20241228T080000
DTEND;TZID=UTC:20241228T090000
DTSTAMP:20260425T160013
CREATED:20241202T170752Z
LAST-MODIFIED:20241202T170819Z
UID:1580-1735372800-1735376400@risenchurchgrovetown.org
SUMMARY:Church Cleaning
DESCRIPTION:
URL:https://risenchurchgrovetown.org/event/church-cleaning-11/
END:VEVENT
BEGIN:VEVENT
DTSTART;TZID=UTC:20241224T180000
DTEND;TZID=UTC:20241224T200000
DTSTAMP:20260425T160013
CREATED:20241202T170653Z
LAST-MODIFIED:20241202T170653Z
UID:1578-1735063200-1735070400@risenchurchgrovetown.org
SUMMARY:Christmas Eve Service
DESCRIPTION:
URL:https://risenchurchgrovetown.org/event/christmas-eve-service-2/
END:VEVENT
BEGIN:VEVENT
DTSTART;TZID=UTC:20241224T173000
DTEND;TZID=UTC:20241224T190000
DTSTAMP:20260425T160013
CREATED:20241202T170520Z
LAST-MODIFIED:20241202T170520Z
UID:1576-1735061400-1735066800@risenchurchgrovetown.org
SUMMARY:Christmas Eve Social
DESCRIPTION:
URL:https://risenchurchgrovetown.org/event/christmas-eve-social/
END:VEVENT
BEGIN:VEVENT
DTSTART;TZID=UTC:20241218T170000
DTEND;TZID=UTC:20241218T183000
DTSTAMP:20260425T160013
CREATED:20241202T170318Z
LAST-MODIFIED:20241202T170318Z
UID:1574-1734541200-1734546600@risenchurchgrovetown.org
SUMMARY:Food Pantry
DESCRIPTION:
URL:https://risenchurchgrovetown.org/event/food-pantry-18/
END:VEVENT
BEGIN:VEVENT
DTSTART;TZID=UTC:20241214T173000
DTEND;TZID=UTC:20241214T190000
DTSTAMP:20260425T160013
CREATED:20241202T170226Z
LAST-MODIFIED:20241202T170226Z
UID:1572-1734197400-1734202800@risenchurchgrovetown.org
SUMMARY:Christmas Dinner
DESCRIPTION:
URL:https://risenchurchgrovetown.org/event/christmas-dinner/
END:VEVENT
BEGIN:VEVENT
DTSTART;TZID=UTC:20241211T180000
DTEND;TZID=UTC:20241211T190000
DTSTAMP:20260425T160013
CREATED:20241202T170057Z
LAST-MODIFIED:20241202T170057Z
UID:1570-1733940000-1733943600@risenchurchgrovetown.org
SUMMARY:Bring Your Dinner to Church
DESCRIPTION:
URL:https://risenchurchgrovetown.org/event/bring-your-dinner-to-church-7/
END:VEVENT
BEGIN:VEVENT
DTSTART;TZID=UTC:20241207T090000
DTEND;TZID=UTC:20241207T120000
DTSTAMP:20260425T160013
CREATED:20241202T170001Z
LAST-MODIFIED:20241202T170130Z
UID:1568-1733562000-1733572800@risenchurchgrovetown.org
SUMMARY:Rolling Hope
DESCRIPTION:
URL:https://risenchurchgrovetown.org/event/rolling-hope-3/
END:VEVENT
END:VCALENDAR