BEGIN:VCALENDAR
VERSION:2.0
PRODID:-//Risen Church Grovetown - ECPv6.15.20//NONSGML v1.0//EN
CALSCALE:GREGORIAN
METHOD:PUBLISH
X-WR-CALNAME:Risen Church Grovetown
X-ORIGINAL-URL:https://risenchurchgrovetown.org
X-WR-CALDESC:Events for Risen Church Grovetown
REFRESH-INTERVAL;VALUE=DURATION:PT1H
X-Robots-Tag:noindex
X-PUBLISHED-TTL:PT1H
BEGIN:VTIMEZONE
TZID:UTC
BEGIN:STANDARD
TZOFFSETFROM:+0000
TZOFFSETTO:+0000
TZNAME:UTC
DTSTART:20240101T000000
END:STANDARD
END:VTIMEZONE
BEGIN:VEVENT
DTSTART;TZID=UTC:20250815T170000
DTEND;TZID=UTC:20250815T200000
DTSTAMP:20260423T172203
CREATED:20250804T201522Z
LAST-MODIFIED:20250804T201522Z
UID:2076-1755277200-1755288000@risenchurchgrovetown.org
SUMMARY:Church Workday
DESCRIPTION:
URL:https://risenchurchgrovetown.org/event/church-workday/
END:VEVENT
BEGIN:VEVENT
DTSTART;TZID=UTC:20250813T180000
DTEND;TZID=UTC:20250813T190000
DTSTAMP:20260423T172203
CREATED:20250804T201454Z
LAST-MODIFIED:20250804T201454Z
UID:2074-1755108000-1755111600@risenchurchgrovetown.org
SUMMARY:Bring Your Dinner to Church
DESCRIPTION:
URL:https://risenchurchgrovetown.org/event/bring-your-dinner-to-church-15/
END:VEVENT
BEGIN:VEVENT
DTSTART;TZID=UTC:20250809T090000
DTEND;TZID=UTC:20250809T100000
DTSTAMP:20260423T172203
CREATED:20250701T140037Z
LAST-MODIFIED:20250701T140037Z
UID:2026-1754730000-1754733600@risenchurchgrovetown.org
SUMMARY:Children's Ministry Meeting
DESCRIPTION:
URL:https://risenchurchgrovetown.org/event/childrens-ministry-meeting-2/
END:VEVENT
BEGIN:VEVENT
DTSTART;TZID=UTC:20250802T110000
DTEND;TZID=UTC:20250802T140000
DTSTAMP:20260423T172203
CREATED:20250607T174352Z
LAST-MODIFIED:20250607T174352Z
UID:1990-1754132400-1754143200@risenchurchgrovetown.org
SUMMARY:Splash Bash
DESCRIPTION:
URL:https://risenchurchgrovetown.org/event/splash-bash-3/
END:VEVENT
BEGIN:VEVENT
DTSTART;TZID=UTC:20250726T090000
DTEND;TZID=UTC:20250726T110000
DTSTAMP:20260423T172203
CREATED:20250701T135935Z
LAST-MODIFIED:20250701T135935Z
UID:2024-1753520400-1753527600@risenchurchgrovetown.org
SUMMARY:Bookbag Giveaway
DESCRIPTION:
URL:https://risenchurchgrovetown.org/event/bookbag-giveaway/
END:VEVENT
BEGIN:VEVENT
DTSTART;TZID=UTC:20250726T080000
DTEND;TZID=UTC:20250726T090000
DTSTAMP:20260423T172203
CREATED:20250701T135628Z
LAST-MODIFIED:20250701T135628Z
UID:2022-1753516800-1753520400@risenchurchgrovetown.org
SUMMARY:Church Cleaning
DESCRIPTION:
URL:https://risenchurchgrovetown.org/event/church-cleaning-18/
END:VEVENT
BEGIN:VEVENT
DTSTART;TZID=UTC:20250719T073000
DTEND;TZID=UTC:20250719T140000
DTSTAMP:20260423T172203
CREATED:20250701T135508Z
LAST-MODIFIED:20250701T135508Z
UID:2020-1752910200-1752933600@risenchurchgrovetown.org
SUMMARY:Community Yard Cleanup
DESCRIPTION:
URL:https://risenchurchgrovetown.org/event/community-yard-cleanup/
END:VEVENT
BEGIN:VEVENT
DTSTART;TZID=UTC:20250714T190000
DTEND;TZID=UTC:20250714T200000
DTSTAMP:20260423T172203
CREATED:20250701T135318Z
LAST-MODIFIED:20250701T135318Z
UID:2018-1752519600-1752523200@risenchurchgrovetown.org
SUMMARY:Women's Bible Study
DESCRIPTION:
URL:https://risenchurchgrovetown.org/event/womens-bible-study-8/
END:VEVENT
BEGIN:VEVENT
DTSTART;TZID=UTC:20250709T180000
DTEND;TZID=UTC:20250709T190000
DTSTAMP:20260423T172203
CREATED:20250701T135107Z
LAST-MODIFIED:20250701T135107Z
UID:2014-1752084000-1752087600@risenchurchgrovetown.org
SUMMARY:Bring Your Dinner to Church
DESCRIPTION:
URL:https://risenchurchgrovetown.org/event/bring-your-dinner-to-church-14/
END:VEVENT
BEGIN:VEVENT
DTSTART;TZID=UTC:20250707T190000
DTEND;TZID=UTC:20250707T200000
DTSTAMP:20260423T172203
CREATED:20250701T135151Z
LAST-MODIFIED:20250701T135151Z
UID:2016-1751914800-1751918400@risenchurchgrovetown.org
SUMMARY:Women's Bible Study
DESCRIPTION:
URL:https://risenchurchgrovetown.org/event/womens-bible-study-7/
END:VEVENT
BEGIN:VEVENT
DTSTART;TZID=UTC:20250706T120000
DTEND;TZID=UTC:20250706T123000
DTSTAMP:20260423T172203
CREATED:20250701T135026Z
LAST-MODIFIED:20250701T135026Z
UID:2012-1751803200-1751805000@risenchurchgrovetown.org
SUMMARY:Splash Bash Meeting
DESCRIPTION:
URL:https://risenchurchgrovetown.org/event/splash-bash-meeting/
END:VEVENT
BEGIN:VEVENT
DTSTART;TZID=UTC:20250630T190000
DTEND;TZID=UTC:20250630T200000
DTSTAMP:20260423T172203
CREATED:20250607T174806Z
LAST-MODIFIED:20250607T174806Z
UID:1998-1751310000-1751313600@risenchurchgrovetown.org
SUMMARY:Women's Bible Study
DESCRIPTION:
URL:https://risenchurchgrovetown.org/event/womens-bible-study-6/
END:VEVENT
BEGIN:VEVENT
DTSTART;TZID=UTC:20250628T170000
DTEND;TZID=UTC:20250628T220000
DTSTAMP:20260423T172203
CREATED:20250607T174316Z
LAST-MODIFIED:20250607T174316Z
UID:1988-1751130000-1751148000@risenchurchgrovetown.org
SUMMARY:Summer Jam
DESCRIPTION:
URL:https://risenchurchgrovetown.org/event/summer-jam/
END:VEVENT
BEGIN:VEVENT
DTSTART;TZID=UTC:20250628T080000
DTEND;TZID=UTC:20250628T090000
DTSTAMP:20260423T172203
CREATED:20250607T174235Z
LAST-MODIFIED:20250607T174457Z
UID:1986-1751097600-1751101200@risenchurchgrovetown.org
SUMMARY:Church Cleaning
DESCRIPTION:
URL:https://risenchurchgrovetown.org/event/church-cleaning-17/
END:VEVENT
BEGIN:VEVENT
DTSTART;TZID=UTC:20250623T190000
DTEND;TZID=UTC:20250623T200000
DTSTAMP:20260423T172203
CREATED:20250607T174737Z
LAST-MODIFIED:20250607T174737Z
UID:1996-1750705200-1750708800@risenchurchgrovetown.org
SUMMARY:Women's Bible Study
DESCRIPTION:
URL:https://risenchurchgrovetown.org/event/womens-bible-study-5/
END:VEVENT
BEGIN:VEVENT
DTSTART;TZID=UTC:20250616T190000
DTEND;TZID=UTC:20250616T200000
DTSTAMP:20260423T172203
CREATED:20250607T174658Z
LAST-MODIFIED:20250607T174658Z
UID:1994-1750100400-1750104000@risenchurchgrovetown.org
SUMMARY:Women's Bible Study
DESCRIPTION:
URL:https://risenchurchgrovetown.org/event/womens-bible-study-4/
END:VEVENT
BEGIN:VEVENT
DTSTART;TZID=UTC:20250614T080000
DTEND;TZID=UTC:20250614T120000
DTSTAMP:20260423T172203
CREATED:20250504T180756Z
LAST-MODIFIED:20250504T180756Z
UID:1955-1749888000-1749902400@risenchurchgrovetown.org
SUMMARY:Rolling Hope
DESCRIPTION:
URL:https://risenchurchgrovetown.org/event/rolling-hope-5/
END:VEVENT
BEGIN:VEVENT
DTSTART;TZID=UTC:20250611T180000
DTEND;TZID=UTC:20250611T190000
DTSTAMP:20260423T172203
CREATED:20250607T174124Z
LAST-MODIFIED:20250607T174124Z
UID:1982-1749664800-1749668400@risenchurchgrovetown.org
SUMMARY:Bring Your Dinner to Church
DESCRIPTION:
URL:https://risenchurchgrovetown.org/event/bring-your-dinner-to-church-13/
END:VEVENT
BEGIN:VEVENT
DTSTART;TZID=UTC:20250609T190000
DTEND;TZID=UTC:20250609T200000
DTSTAMP:20260423T172203
CREATED:20250607T174626Z
LAST-MODIFIED:20250607T174626Z
UID:1992-1749495600-1749499200@risenchurchgrovetown.org
SUMMARY:Women's Bible Study
DESCRIPTION:
URL:https://risenchurchgrovetown.org/event/womens-bible-study-3/
END:VEVENT
BEGIN:VEVENT
DTSTART;TZID=UTC:20250607T180000
DTEND;TZID=UTC:20250607T200000
DTSTAMP:20260423T172203
CREATED:20250607T174906Z
LAST-MODIFIED:20250607T174906Z
UID:2000-1749319200-1749326400@risenchurchgrovetown.org
SUMMARY:MWAM Graduation
DESCRIPTION:
URL:https://risenchurchgrovetown.org/event/mwam-graduation/
END:VEVENT
BEGIN:VEVENT
DTSTART;TZID=UTC:20250531T080000
DTEND;TZID=UTC:20250531T090000
DTSTAMP:20260423T172203
CREATED:20250504T180544Z
LAST-MODIFIED:20250504T180544Z
UID:1949-1748678400-1748682000@risenchurchgrovetown.org
SUMMARY:Church Cleaning
DESCRIPTION:
URL:https://risenchurchgrovetown.org/event/church-cleaning-16/
END:VEVENT
BEGIN:VEVENT
DTSTART;TZID=UTC:20250519T190000
DTEND;TZID=UTC:20250519T200000
DTSTAMP:20260423T172203
CREATED:20250504T181146Z
LAST-MODIFIED:20250504T181146Z
UID:1961-1747681200-1747684800@risenchurchgrovetown.org
SUMMARY:Women's Bible Study
DESCRIPTION:
URL:https://risenchurchgrovetown.org/event/womens-bible-study-2/
END:VEVENT
BEGIN:VEVENT
DTSTART;TZID=UTC:20250517T080000
DTEND;TZID=UTC:20250517T133000
DTSTAMP:20260423T172203
CREATED:20250504T180725Z
LAST-MODIFIED:20250504T180725Z
UID:1953-1747468800-1747488600@risenchurchgrovetown.org
SUMMARY:Men's Advance
DESCRIPTION:
URL:https://risenchurchgrovetown.org/event/mens-advance-3/
END:VEVENT
BEGIN:VEVENT
DTSTART;TZID=UTC:20250516T180000
DTEND;TZID=UTC:20250516T200000
DTSTAMP:20260423T172203
CREATED:20250504T180655Z
LAST-MODIFIED:20250504T180655Z
UID:1951-1747418400-1747425600@risenchurchgrovetown.org
SUMMARY:Men's Advance
DESCRIPTION:
URL:https://risenchurchgrovetown.org/event/mens-advance-2/
END:VEVENT
BEGIN:VEVENT
DTSTART;TZID=UTC:20250514T180000
DTEND;TZID=UTC:20250514T190000
DTSTAMP:20260423T172203
CREATED:20250504T180509Z
LAST-MODIFIED:20250504T180509Z
UID:1947-1747245600-1747249200@risenchurchgrovetown.org
SUMMARY:Bring Your Dinner to Church
DESCRIPTION:
URL:https://risenchurchgrovetown.org/event/bring-your-dinner-to-church-12/
END:VEVENT
BEGIN:VEVENT
DTSTART;TZID=UTC:20250512T190000
DTEND;TZID=UTC:20250512T200000
DTSTAMP:20260423T172203
CREATED:20250504T181053Z
LAST-MODIFIED:20250504T181053Z
UID:1959-1747076400-1747080000@risenchurchgrovetown.org
SUMMARY:Women's Bible Study
DESCRIPTION:
URL:https://risenchurchgrovetown.org/event/womens-bible-study/
END:VEVENT
BEGIN:VEVENT
DTSTART;TZID=UTC:20250505T190000
DTEND;TZID=UTC:20250505T200000
DTSTAMP:20260423T172203
CREATED:20250504T180410Z
LAST-MODIFIED:20250504T180410Z
UID:1945-1746471600-1746475200@risenchurchgrovetown.org
SUMMARY:MWAM/WWAP
DESCRIPTION:
URL:https://risenchurchgrovetown.org/event/mwam-wwap-20/
END:VEVENT
BEGIN:VEVENT
DTSTART;TZID=UTC:20250428T190000
DTEND;TZID=UTC:20250428T200000
DTSTAMP:20260423T172203
CREATED:20250406T012407Z
LAST-MODIFIED:20250406T012407Z
UID:1861-1745866800-1745870400@risenchurchgrovetown.org
SUMMARY:MWAM/WWAP
DESCRIPTION:
URL:https://risenchurchgrovetown.org/event/mwam-wwap-19/
END:VEVENT
BEGIN:VEVENT
DTSTART;TZID=UTC:20250426T080000
DTEND;TZID=UTC:20250426T090000
DTSTAMP:20260423T172203
CREATED:20250406T012319Z
LAST-MODIFIED:20250406T012319Z
UID:1859-1745654400-1745658000@risenchurchgrovetown.org
SUMMARY:Church Cleaning
DESCRIPTION:
URL:https://risenchurchgrovetown.org/event/church-cleaning-15/
END:VEVENT
BEGIN:VEVENT
DTSTART;TZID=UTC:20250420T080000
DTEND;TZID=UTC:20250420T090000
DTSTAMP:20260423T172203
CREATED:20250406T012538Z
LAST-MODIFIED:20250406T012538Z
UID:1863-1745136000-1745139600@risenchurchgrovetown.org
SUMMARY:Easter Breakfast - Following Service
DESCRIPTION:
URL:https://risenchurchgrovetown.org/event/easter-breakfast-following-service/
END:VEVENT
END:VCALENDAR