BEGIN:VCALENDAR
VERSION:2.0
PRODID:-//Risen Church Grovetown - ECPv6.15.20//NONSGML v1.0//EN
CALSCALE:GREGORIAN
METHOD:PUBLISH
X-WR-CALNAME:Risen Church Grovetown
X-ORIGINAL-URL:https://risenchurchgrovetown.org
X-WR-CALDESC:Events for Risen Church Grovetown
REFRESH-INTERVAL;VALUE=DURATION:PT1H
X-Robots-Tag:noindex
X-PUBLISHED-TTL:PT1H
BEGIN:VTIMEZONE
TZID:UTC
BEGIN:STANDARD
TZOFFSETFROM:+0000
TZOFFSETTO:+0000
TZNAME:UTC
DTSTART:20230101T000000
END:STANDARD
END:VTIMEZONE
BEGIN:VEVENT
DTSTART;TZID=UTC:20240814T180000
DTEND;TZID=UTC:20240814T190000
DTSTAMP:20260426T025700
CREATED:20240803T003227Z
LAST-MODIFIED:20240803T003227Z
UID:1081-1723658400-1723662000@risenchurchgrovetown.org
SUMMARY:Bring Your Dinner to Church (Grovetown)
DESCRIPTION:
URL:https://risenchurchgrovetown.org/event/bring-your-dinner-to-church-grovetown/
END:VEVENT
BEGIN:VEVENT
DTSTART;TZID=UTC:20240727T090000
DTEND;TZID=UTC:20240727T110000
DTSTAMP:20260426T025700
CREATED:20240629T235426Z
LAST-MODIFIED:20240629T235426Z
UID:1058-1722070800-1722078000@risenchurchgrovetown.org
SUMMARY:Food Pantry
DESCRIPTION:
URL:https://risenchurchgrovetown.org/event/food-pantry-12/
END:VEVENT
BEGIN:VEVENT
DTSTART;TZID=UTC:20240727T080000
DTEND;TZID=UTC:20240727T090000
DTSTAMP:20260426T025700
CREATED:20240629T235354Z
LAST-MODIFIED:20240629T235354Z
UID:1056-1722067200-1722070800@risenchurchgrovetown.org
SUMMARY:Church Cleaning
DESCRIPTION:
URL:https://risenchurchgrovetown.org/event/church-cleaning-7/
END:VEVENT
BEGIN:VEVENT
DTSTART;TZID=UTC:20240720T180000
DTEND;TZID=UTC:20240720T200000
DTSTAMP:20260426T025700
CREATED:20240629T235317Z
LAST-MODIFIED:20240629T235317Z
UID:1054-1721498400-1721505600@risenchurchgrovetown.org
SUMMARY:Ironmen Dinner
DESCRIPTION:
URL:https://risenchurchgrovetown.org/event/ironmen-dinner-2/
END:VEVENT
BEGIN:VEVENT
DTSTART;TZID=UTC:20240717T170000
DTEND;TZID=UTC:20240717T183000
DTSTAMP:20260426T025700
CREATED:20240629T234955Z
LAST-MODIFIED:20240629T235114Z
UID:1048-1721235600-1721241000@risenchurchgrovetown.org
SUMMARY:Food Pantry
DESCRIPTION:
URL:https://risenchurchgrovetown.org/event/food-pantry-11/
END:VEVENT
BEGIN:VEVENT
DTSTART;TZID=UTC:20240713T090000
DTEND;TZID=UTC:20240713T110000
DTSTAMP:20260426T025700
CREATED:20240629T234840Z
LAST-MODIFIED:20240629T235149Z
UID:1046-1720861200-1720868400@risenchurchgrovetown.org
SUMMARY:Rolling Hope
DESCRIPTION:
URL:https://risenchurchgrovetown.org/event/rolling-hope-9am/
END:VEVENT
BEGIN:VEVENT
DTSTART;TZID=UTC:20240710T180000
DTEND;TZID=UTC:20240710T190000
DTSTAMP:20260426T025700
CREATED:20240629T234751Z
LAST-MODIFIED:20240629T235212Z
UID:1044-1720634400-1720638000@risenchurchgrovetown.org
SUMMARY:Bring Your Dinner to Church
DESCRIPTION:
URL:https://risenchurchgrovetown.org/event/bring-your-dinner-to-church-6pm-2/
END:VEVENT
BEGIN:VEVENT
DTSTART;TZID=UTC:20240629T070000
DTEND;TZID=UTC:20240629T080000
DTSTAMP:20260426T025700
CREATED:20240616T125355Z
LAST-MODIFIED:20240616T125355Z
UID:1033-1719644400-1719648000@risenchurchgrovetown.org
SUMMARY:Ironmen Breakfast - 7:00am
DESCRIPTION:
URL:https://risenchurchgrovetown.org/event/ironmen-breakfast-700am/
END:VEVENT
BEGIN:VEVENT
DTSTART;TZID=UTC:20240622T090000
DTEND;TZID=UTC:20240622T110000
DTSTAMP:20260426T025700
CREATED:20240602T022035Z
LAST-MODIFIED:20240616T161828Z
UID:1016-1719046800-1719054000@risenchurchgrovetown.org
SUMMARY:Food Pantry - 9-11am
DESCRIPTION:
URL:https://risenchurchgrovetown.org/event/food-pantry-9-11am/
END:VEVENT
BEGIN:VEVENT
DTSTART;TZID=UTC:20240622T080000
DTEND;TZID=UTC:20240622T090000
DTSTAMP:20260426T025700
CREATED:20240602T022112Z
LAST-MODIFIED:20240616T161850Z
UID:1018-1719043200-1719046800@risenchurchgrovetown.org
SUMMARY:Church Cleaning - 8am
DESCRIPTION:
URL:https://risenchurchgrovetown.org/event/church-cleaning-8am/
END:VEVENT
BEGIN:VEVENT
DTSTART;TZID=UTC:20240619T170000
DTEND;TZID=UTC:20240619T183000
DTSTAMP:20260426T025700
CREATED:20240602T021946Z
LAST-MODIFIED:20240602T021946Z
UID:1014-1718816400-1718821800@risenchurchgrovetown.org
SUMMARY:Food Pantry - 5-6:30pm
DESCRIPTION:
URL:https://risenchurchgrovetown.org/event/food-pantry-5-630pm/
END:VEVENT
BEGIN:VEVENT
DTSTART;TZID=UTC:20240615T180000
DTEND;TZID=UTC:20240615T200000
DTSTAMP:20260426T025700
CREATED:20240602T022313Z
LAST-MODIFIED:20240602T022313Z
UID:1020-1718474400-1718481600@risenchurchgrovetown.org
SUMMARY:MWM Graduation Ceremony - 6-8:00pm
DESCRIPTION:
URL:https://risenchurchgrovetown.org/event/mwm-graduation-ceremony-6-800pm/
END:VEVENT
BEGIN:VEVENT
DTSTART;TZID=UTC:20240612T180000
DTEND;TZID=UTC:20240612T190000
DTSTAMP:20260426T025700
CREATED:20240602T021753Z
LAST-MODIFIED:20240602T021753Z
UID:1012-1718215200-1718218800@risenchurchgrovetown.org
SUMMARY:Bring Your Dinner to Church - 6pm
DESCRIPTION:
URL:https://risenchurchgrovetown.org/event/bring-your-dinner-to-church-6pm/
END:VEVENT
BEGIN:VEVENT
DTSTART;TZID=UTC:20240526T090000
DTEND;TZID=UTC:20240526T110000
DTSTAMP:20260426T025700
CREATED:20240501T152838Z
LAST-MODIFIED:20240501T152838Z
UID:989-1716714000-1716721200@risenchurchgrovetown.org
SUMMARY:Food Pantry
DESCRIPTION:
URL:https://risenchurchgrovetown.org/event/food-pantry-10/
END:VEVENT
BEGIN:VEVENT
DTSTART;TZID=UTC:20240526T080000
DTEND;TZID=UTC:20240526T090000
DTSTAMP:20260426T025700
CREATED:20240501T152716Z
LAST-MODIFIED:20240501T152716Z
UID:985-1716710400-1716714000@risenchurchgrovetown.org
SUMMARY:Church Cleaning
DESCRIPTION:
URL:https://risenchurchgrovetown.org/event/church-cleaning-6/
END:VEVENT
BEGIN:VEVENT
DTSTART;TZID=UTC:20240515T170000
DTEND;TZID=UTC:20240515T183000
DTSTAMP:20260426T025700
CREATED:20240501T152804Z
LAST-MODIFIED:20240501T152804Z
UID:987-1715792400-1715797800@risenchurchgrovetown.org
SUMMARY:Food Pantry
DESCRIPTION:
URL:https://risenchurchgrovetown.org/event/food-pantry-9/
END:VEVENT
BEGIN:VEVENT
DTSTART;TZID=UTC:20240508T180000
DTEND;TZID=UTC:20240508T190000
DTSTAMP:20260426T025700
CREATED:20240501T153135Z
LAST-MODIFIED:20240501T153135Z
UID:993-1715191200-1715194800@risenchurchgrovetown.org
SUMMARY:Bring Your Dinner to Church
DESCRIPTION:
URL:https://risenchurchgrovetown.org/event/bring-your-dinner-to-church-4/
END:VEVENT
BEGIN:VEVENT
DTSTART;TZID=UTC:20240507T090000
DTEND;TZID=UTC:20240507T100000
DTSTAMP:20260426T025700
CREATED:20240501T153026Z
LAST-MODIFIED:20240501T153026Z
UID:991-1715072400-1715076000@risenchurchgrovetown.org
SUMMARY:Ladies Bible Study 9am & 7pm
DESCRIPTION:
URL:https://risenchurchgrovetown.org/event/ladies-bible-study-9am-7pm-9/
END:VEVENT
BEGIN:VEVENT
DTSTART;TZID=UTC:20240503T180000
DTEND;TZID=UTC:20240504T170000
DTSTAMP:20260426T025700
CREATED:20240501T152609Z
LAST-MODIFIED:20240501T152609Z
UID:982-1714759200-1714842000@risenchurchgrovetown.org
SUMMARY:Men's Advance
DESCRIPTION:
URL:https://risenchurchgrovetown.org/event/mens-advance/
END:VEVENT
BEGIN:VEVENT
DTSTART;TZID=UTC:20240430T090000
DTEND;TZID=UTC:20240430T100000
DTSTAMP:20260426T025700
CREATED:20240225T212506Z
LAST-MODIFIED:20240225T212506Z
UID:922-1714467600-1714471200@risenchurchgrovetown.org
SUMMARY:Ladies Bible Study 9am & 7pm
DESCRIPTION:
URL:https://risenchurchgrovetown.org/event/ladies-bible-study-9am-7pm-8/
END:VEVENT
BEGIN:VEVENT
DTSTART;TZID=UTC:20240427T090000
DTEND;TZID=UTC:20240427T110000
DTSTAMP:20260426T025700
CREATED:20240225T211103Z
LAST-MODIFIED:20240225T211103Z
UID:902-1714208400-1714215600@risenchurchgrovetown.org
SUMMARY:Food Pantry
DESCRIPTION:
URL:https://risenchurchgrovetown.org/event/food-pantry-8/
END:VEVENT
BEGIN:VEVENT
DTSTART;TZID=UTC:20240427T080000
DTEND;TZID=UTC:20240427T090000
DTSTAMP:20260426T025700
CREATED:20240225T211400Z
LAST-MODIFIED:20240225T211400Z
UID:906-1714204800-1714208400@risenchurchgrovetown.org
SUMMARY:Church Cleaning
DESCRIPTION:
URL:https://risenchurchgrovetown.org/event/church-cleaning-5/
END:VEVENT
BEGIN:VEVENT
DTSTART;TZID=UTC:20240423T090000
DTEND;TZID=UTC:20240423T100000
DTSTAMP:20260426T025700
CREATED:20240225T212405Z
LAST-MODIFIED:20240225T212405Z
UID:920-1713862800-1713866400@risenchurchgrovetown.org
SUMMARY:Ladies Bible Study 9am & 7pm
DESCRIPTION:
URL:https://risenchurchgrovetown.org/event/ladies-bible-study-9am-7pm-7/
END:VEVENT
BEGIN:VEVENT
DTSTART;TZID=UTC:20240417T173000
DTEND;TZID=UTC:20240417T190000
DTSTAMP:20260426T025700
CREATED:20240225T211032Z
LAST-MODIFIED:20240225T211032Z
UID:900-1713375000-1713380400@risenchurchgrovetown.org
SUMMARY:Food Pantry
DESCRIPTION:
URL:https://risenchurchgrovetown.org/event/food-pantry-7/
END:VEVENT
BEGIN:VEVENT
DTSTART;TZID=UTC:20240416T090000
DTEND;TZID=UTC:20240416T100000
DTSTAMP:20260426T025700
CREATED:20240225T212329Z
LAST-MODIFIED:20240225T212329Z
UID:918-1713258000-1713261600@risenchurchgrovetown.org
SUMMARY:Ladies Bible Study 9am & 7pm
DESCRIPTION:
URL:https://risenchurchgrovetown.org/event/ladies-bible-study-9am-7pm-6/
END:VEVENT
BEGIN:VEVENT
DTSTART;TZID=UTC:20240415T190000
DTEND;TZID=UTC:20240415T200000
DTSTAMP:20260426T025700
CREATED:20240225T210741Z
LAST-MODIFIED:20240225T210741Z
UID:894-1713207600-1713211200@risenchurchgrovetown.org
SUMMARY:MWAM/WWAP
DESCRIPTION:
URL:https://risenchurchgrovetown.org/event/mwam-wwap-6/
END:VEVENT
BEGIN:VEVENT
DTSTART;TZID=UTC:20240413T173000
DTEND;TZID=UTC:20240413T193000
DTSTAMP:20260426T025700
CREATED:20240407T131329Z
LAST-MODIFIED:20240407T131329Z
UID:960-1713029400-1713036600@risenchurchgrovetown.org
SUMMARY:Game Night
DESCRIPTION:
URL:https://risenchurchgrovetown.org/event/game-night/
END:VEVENT
BEGIN:VEVENT
DTSTART;TZID=UTC:20240413T091500
DTEND;TZID=UTC:20240413T113000
DTSTAMP:20260426T025700
CREATED:20240225T211259Z
LAST-MODIFIED:20240225T211638Z
UID:904-1712999700-1713007800@risenchurchgrovetown.org
SUMMARY:Rolling Hope
DESCRIPTION:
URL:https://risenchurchgrovetown.org/event/rolling-hope/
END:VEVENT
BEGIN:VEVENT
DTSTART;TZID=UTC:20240410T180000
DTEND;TZID=UTC:20240410T190000
DTSTAMP:20260426T025700
CREATED:20240225T210848Z
LAST-MODIFIED:20240225T210848Z
UID:896-1712772000-1712775600@risenchurchgrovetown.org
SUMMARY:Bring Your Dinner to Church
DESCRIPTION:
URL:https://risenchurchgrovetown.org/event/bring-your-dinner-to-church-3/
END:VEVENT
BEGIN:VEVENT
DTSTART;TZID=UTC:20240402T090000
DTEND;TZID=UTC:20240402T100000
DTSTAMP:20260426T025700
CREATED:20240225T212244Z
LAST-MODIFIED:20240225T212244Z
UID:916-1712048400-1712052000@risenchurchgrovetown.org
SUMMARY:Ladies Bible Study 9am & 7pm
DESCRIPTION:
URL:https://risenchurchgrovetown.org/event/ladies-bible-study-9am-7pm-5/
END:VEVENT
END:VCALENDAR