BEGIN:VCALENDAR
VERSION:2.0
PRODID:-//Risen Church Grovetown - ECPv6.15.20//NONSGML v1.0//EN
CALSCALE:GREGORIAN
METHOD:PUBLISH
X-WR-CALNAME:Risen Church Grovetown
X-ORIGINAL-URL:https://risenchurchgrovetown.org
X-WR-CALDESC:Events for Risen Church Grovetown
REFRESH-INTERVAL;VALUE=DURATION:PT1H
X-Robots-Tag:noindex
X-PUBLISHED-TTL:PT1H
BEGIN:VTIMEZONE
TZID:UTC
BEGIN:STANDARD
TZOFFSETFROM:+0000
TZOFFSETTO:+0000
TZNAME:UTC
DTSTART:20230101T000000
END:STANDARD
END:VTIMEZONE
BEGIN:VEVENT
DTSTART;TZID=UTC:20250106T190000
DTEND;TZID=UTC:20250106T200000
DTSTAMP:20260425T194135
CREATED:20241214T192322Z
LAST-MODIFIED:20241214T192322Z
UID:1588-1736190000-1736193600@risenchurchgrovetown.org
SUMMARY:MWAM/WWAP
DESCRIPTION:
URL:https://risenchurchgrovetown.org/event/mwam-wwap-12/
END:VEVENT
BEGIN:VEVENT
DTSTART;TZID=UTC:20250101T180000
DTEND;TZID=UTC:20250101T200000
DTSTAMP:20260425T194135
CREATED:20241214T192224Z
LAST-MODIFIED:20241214T192224Z
UID:1586-1735754400-1735761600@risenchurchgrovetown.org
SUMMARY:New Year's Potluck Social
DESCRIPTION:
URL:https://risenchurchgrovetown.org/event/new-years-potluck-social/
END:VEVENT
BEGIN:VEVENT
DTSTART;TZID=UTC:20241228T090000
DTEND;TZID=UTC:20241228T110000
DTSTAMP:20260425T194135
CREATED:20241202T171026Z
LAST-MODIFIED:20241202T171026Z
UID:1582-1735376400-1735383600@risenchurchgrovetown.org
SUMMARY:Food Pantry
DESCRIPTION:
URL:https://risenchurchgrovetown.org/event/food-pantry-19/
END:VEVENT
BEGIN:VEVENT
DTSTART;TZID=UTC:20241228T080000
DTEND;TZID=UTC:20241228T090000
DTSTAMP:20260425T194135
CREATED:20241202T170752Z
LAST-MODIFIED:20241202T170819Z
UID:1580-1735372800-1735376400@risenchurchgrovetown.org
SUMMARY:Church Cleaning
DESCRIPTION:
URL:https://risenchurchgrovetown.org/event/church-cleaning-11/
END:VEVENT
BEGIN:VEVENT
DTSTART;TZID=UTC:20241224T180000
DTEND;TZID=UTC:20241224T200000
DTSTAMP:20260425T194135
CREATED:20241202T170653Z
LAST-MODIFIED:20241202T170653Z
UID:1578-1735063200-1735070400@risenchurchgrovetown.org
SUMMARY:Christmas Eve Service
DESCRIPTION:
URL:https://risenchurchgrovetown.org/event/christmas-eve-service-2/
END:VEVENT
BEGIN:VEVENT
DTSTART;TZID=UTC:20241224T173000
DTEND;TZID=UTC:20241224T190000
DTSTAMP:20260425T194135
CREATED:20241202T170520Z
LAST-MODIFIED:20241202T170520Z
UID:1576-1735061400-1735066800@risenchurchgrovetown.org
SUMMARY:Christmas Eve Social
DESCRIPTION:
URL:https://risenchurchgrovetown.org/event/christmas-eve-social/
END:VEVENT
BEGIN:VEVENT
DTSTART;TZID=UTC:20241218T170000
DTEND;TZID=UTC:20241218T183000
DTSTAMP:20260425T194135
CREATED:20241202T170318Z
LAST-MODIFIED:20241202T170318Z
UID:1574-1734541200-1734546600@risenchurchgrovetown.org
SUMMARY:Food Pantry
DESCRIPTION:
URL:https://risenchurchgrovetown.org/event/food-pantry-18/
END:VEVENT
BEGIN:VEVENT
DTSTART;TZID=UTC:20241214T173000
DTEND;TZID=UTC:20241214T190000
DTSTAMP:20260425T194135
CREATED:20241202T170226Z
LAST-MODIFIED:20241202T170226Z
UID:1572-1734197400-1734202800@risenchurchgrovetown.org
SUMMARY:Christmas Dinner
DESCRIPTION:
URL:https://risenchurchgrovetown.org/event/christmas-dinner/
END:VEVENT
BEGIN:VEVENT
DTSTART;TZID=UTC:20241211T180000
DTEND;TZID=UTC:20241211T190000
DTSTAMP:20260425T194135
CREATED:20241202T170057Z
LAST-MODIFIED:20241202T170057Z
UID:1570-1733940000-1733943600@risenchurchgrovetown.org
SUMMARY:Bring Your Dinner to Church
DESCRIPTION:
URL:https://risenchurchgrovetown.org/event/bring-your-dinner-to-church-7/
END:VEVENT
BEGIN:VEVENT
DTSTART;TZID=UTC:20241207T090000
DTEND;TZID=UTC:20241207T120000
DTSTAMP:20260425T194135
CREATED:20241202T170001Z
LAST-MODIFIED:20241202T170130Z
UID:1568-1733562000-1733572800@risenchurchgrovetown.org
SUMMARY:Rolling Hope
DESCRIPTION:
URL:https://risenchurchgrovetown.org/event/rolling-hope-3/
END:VEVENT
BEGIN:VEVENT
DTSTART;TZID=UTC:20241202T190000
DTEND;TZID=UTC:20241202T200000
DTSTAMP:20260425T194135
CREATED:20241202T165724Z
LAST-MODIFIED:20241202T165928Z
UID:1565-1733166000-1733169600@risenchurchgrovetown.org
SUMMARY:MWAM/WWAP
DESCRIPTION:
URL:https://risenchurchgrovetown.org/event/mwam-wwap-11/
END:VEVENT
BEGIN:VEVENT
DTSTART;TZID=UTC:20241130T090000
DTEND;TZID=UTC:20241130T110000
DTSTAMP:20260425T194135
CREATED:20241024T224238Z
LAST-MODIFIED:20241024T224238Z
UID:1531-1732957200-1732964400@risenchurchgrovetown.org
SUMMARY:Food Pantry
DESCRIPTION:
URL:https://risenchurchgrovetown.org/event/food-pantry-16/
END:VEVENT
BEGIN:VEVENT
DTSTART;TZID=UTC:20241130T080000
DTEND;TZID=UTC:20241130T090000
DTSTAMP:20260425T194135
CREATED:20241024T224210Z
LAST-MODIFIED:20241024T224210Z
UID:1529-1732953600-1732957200@risenchurchgrovetown.org
SUMMARY:Church Cleaning
DESCRIPTION:
URL:https://risenchurchgrovetown.org/event/church-cleaning-9/
END:VEVENT
BEGIN:VEVENT
DTSTART;TZID=UTC:20241128T130000
DTEND;TZID=UTC:20241128T150000
DTSTAMP:20260425T194135
CREATED:20241024T224128Z
LAST-MODIFIED:20241024T224128Z
UID:1527-1732798800-1732806000@risenchurchgrovetown.org
SUMMARY:Thanksgiving Lunch
DESCRIPTION:
URL:https://risenchurchgrovetown.org/event/thanksgiving-lunch/
END:VEVENT
BEGIN:VEVENT
DTSTART;TZID=UTC:20241120T170000
DTEND;TZID=UTC:20241120T183000
DTSTAMP:20260425T194135
CREATED:20241024T224017Z
LAST-MODIFIED:20241024T224017Z
UID:1525-1732122000-1732127400@risenchurchgrovetown.org
SUMMARY:Food Pantry
DESCRIPTION:
URL:https://risenchurchgrovetown.org/event/food-pantry-15/
END:VEVENT
BEGIN:VEVENT
DTSTART;TZID=UTC:20241118T190000
DTEND;TZID=UTC:20241118T200000
DTSTAMP:20260425T194135
CREATED:20241024T223941Z
LAST-MODIFIED:20241024T223941Z
UID:1523-1731956400-1731960000@risenchurchgrovetown.org
SUMMARY:MWAM/WWAP
DESCRIPTION:
URL:https://risenchurchgrovetown.org/event/mwam-wwap-10/
END:VEVENT
BEGIN:VEVENT
DTSTART;TZID=UTC:20241113T180000
DTEND;TZID=UTC:20241113T190000
DTSTAMP:20260425T194135
CREATED:20241024T223846Z
LAST-MODIFIED:20241024T223846Z
UID:1521-1731520800-1731524400@risenchurchgrovetown.org
SUMMARY:Bring Your Dinner to Church
DESCRIPTION:
URL:https://risenchurchgrovetown.org/event/bring-your-dinner-to-church-6/
END:VEVENT
BEGIN:VEVENT
DTSTART;TZID=UTC:20241109T130000
DTEND;TZID=UTC:20241109T180000
DTSTAMP:20260425T194135
CREATED:20241024T223800Z
LAST-MODIFIED:20241024T223800Z
UID:1519-1731157200-1731175200@risenchurchgrovetown.org
SUMMARY:Boxing Event
DESCRIPTION:
URL:https://risenchurchgrovetown.org/event/boxing-event/
END:VEVENT
BEGIN:VEVENT
DTSTART;TZID=UTC:20241104T190000
DTEND;TZID=UTC:20241104T200000
DTSTAMP:20260425T194135
CREATED:20241024T223708Z
LAST-MODIFIED:20241024T223708Z
UID:1517-1730746800-1730750400@risenchurchgrovetown.org
SUMMARY:MWAM/WWAP
DESCRIPTION:
URL:https://risenchurchgrovetown.org/event/mwam-wwap-9/
END:VEVENT
BEGIN:VEVENT
DTSTART;TZID=UTC:20241026T090000
DTEND;TZID=UTC:20241026T110000
DTSTAMP:20260425T194135
CREATED:20241024T224347Z
LAST-MODIFIED:20241024T224347Z
UID:1535-1729933200-1729940400@risenchurchgrovetown.org
SUMMARY:Food Pantry
DESCRIPTION:
URL:https://risenchurchgrovetown.org/event/food-pantry-17/
END:VEVENT
BEGIN:VEVENT
DTSTART;TZID=UTC:20241026T080000
DTEND;TZID=UTC:20241026T090000
DTSTAMP:20260425T194135
CREATED:20241024T224315Z
LAST-MODIFIED:20241024T224315Z
UID:1533-1729929600-1729933200@risenchurchgrovetown.org
SUMMARY:Church Cleaning
DESCRIPTION:
URL:https://risenchurchgrovetown.org/event/church-cleaning-10/
END:VEVENT
BEGIN:VEVENT
DTSTART;TZID=UTC:20241019T090000
DTEND;TZID=UTC:20241019T110000
DTSTAMP:20260425T194135
CREATED:20240829T233654Z
LAST-MODIFIED:20240829T233654Z
UID:1356-1729328400-1729335600@risenchurchgrovetown.org
SUMMARY:Rolling Hope
DESCRIPTION:
URL:https://risenchurchgrovetown.org/event/rolling-hope-2/
END:VEVENT
BEGIN:VEVENT
DTSTART;TZID=UTC:20240930T190000
DTEND;TZID=UTC:20240930T200000
DTSTAMP:20260425T194135
CREATED:20240829T233051Z
LAST-MODIFIED:20240829T233051Z
UID:1347-1727722800-1727726400@risenchurchgrovetown.org
SUMMARY:MWAM/WWAP
DESCRIPTION:
URL:https://risenchurchgrovetown.org/event/mwam-wwap-8/
END:VEVENT
BEGIN:VEVENT
DTSTART;TZID=UTC:20240929T080000
DTEND;TZID=UTC:20240929T090000
DTSTAMP:20260425T194135
CREATED:20240826T142357Z
LAST-MODIFIED:20240826T142357Z
UID:1131-1727596800-1727600400@risenchurchgrovetown.org
SUMMARY:Church Cleaning
DESCRIPTION:
URL:https://risenchurchgrovetown.org/event/church-cleaning-8/
END:VEVENT
BEGIN:VEVENT
DTSTART;TZID=UTC:20240928T090000
DTEND;TZID=UTC:20240928T110000
DTSTAMP:20260425T194135
CREATED:20240826T142223Z
LAST-MODIFIED:20240826T142223Z
UID:1129-1727514000-1727521200@risenchurchgrovetown.org
SUMMARY:Food Pantry
DESCRIPTION:
URL:https://risenchurchgrovetown.org/event/food-pantry-14/
END:VEVENT
BEGIN:VEVENT
DTSTART;VALUE=DATE:20240928
DTEND;VALUE=DATE:20240929
DTSTAMP:20260425T194135
CREATED:20240826T143054Z
LAST-MODIFIED:20240826T143054Z
UID:1139-1727481600-1727567999@risenchurchgrovetown.org
SUMMARY:Ironmen Meeting
DESCRIPTION:
URL:https://risenchurchgrovetown.org/event/ironmen-meeting/
END:VEVENT
BEGIN:VEVENT
DTSTART;TZID=UTC:20240922T120000
DTEND;TZID=UTC:20240922T123000
DTSTAMP:20260425T194135
CREATED:20240829T233351Z
LAST-MODIFIED:20240829T233351Z
UID:1350-1727006400-1727008200@risenchurchgrovetown.org
SUMMARY:Mission Trip Meeting
DESCRIPTION:
URL:https://risenchurchgrovetown.org/event/mission-trip-meeting/
END:VEVENT
BEGIN:VEVENT
DTSTART;TZID=UTC:20240921T140000
DTEND;TZID=UTC:20240921T180000
DTSTAMP:20260425T194135
CREATED:20240826T141810Z
LAST-MODIFIED:20240826T141810Z
UID:1123-1726927200-1726941600@risenchurchgrovetown.org
SUMMARY:Splash Bash
DESCRIPTION:
URL:https://risenchurchgrovetown.org/event/splash-bash/
END:VEVENT
BEGIN:VEVENT
DTSTART;TZID=UTC:20240918T170000
DTEND;TZID=UTC:20240918T183000
DTSTAMP:20260425T194135
CREATED:20240826T142140Z
LAST-MODIFIED:20240826T142140Z
UID:1127-1726678800-1726684200@risenchurchgrovetown.org
SUMMARY:Food Pantry
DESCRIPTION:
URL:https://risenchurchgrovetown.org/event/food-pantry-13/
END:VEVENT
BEGIN:VEVENT
DTSTART;TZID=UTC:20240916T190000
DTEND;TZID=UTC:20240916T200000
DTSTAMP:20260425T194135
CREATED:20240826T142851Z
LAST-MODIFIED:20240826T142851Z
UID:1137-1726513200-1726516800@risenchurchgrovetown.org
SUMMARY:MWAM/WWAP
DESCRIPTION:
URL:https://risenchurchgrovetown.org/event/mwam-wwap-7/
END:VEVENT
END:VCALENDAR